BEGIN:VCALENDAR
VERSION:2.0
PRODID:-//Veranstaltungskalender für Münster Ost - ECPv6.15.20//NONSGML v1.0//EN
CALSCALE:GREGORIAN
METHOD:PUBLISH
X-ORIGINAL-URL:https://muenster-ost.de
X-WR-CALDESC:Veranstaltungen für Veranstaltungskalender für Münster Ost
REFRESH-INTERVAL;VALUE=DURATION:PT1H
X-Robots-Tag:noindex
X-PUBLISHED-TTL:PT1H
BEGIN:VTIMEZONE
TZID:Europe/Berlin
BEGIN:DAYLIGHT
TZOFFSETFROM:+0100
TZOFFSETTO:+0200
TZNAME:CEST
DTSTART:20220327T010000
END:DAYLIGHT
BEGIN:STANDARD
TZOFFSETFROM:+0200
TZOFFSETTO:+0100
TZNAME:CET
DTSTART:20221030T010000
END:STANDARD
BEGIN:DAYLIGHT
TZOFFSETFROM:+0100
TZOFFSETTO:+0200
TZNAME:CEST
DTSTART:20230326T010000
END:DAYLIGHT
BEGIN:STANDARD
TZOFFSETFROM:+0200
TZOFFSETTO:+0100
TZNAME:CET
DTSTART:20231029T010000
END:STANDARD
BEGIN:DAYLIGHT
TZOFFSETFROM:+0100
TZOFFSETTO:+0200
TZNAME:CEST
DTSTART:20240331T010000
END:DAYLIGHT
BEGIN:STANDARD
TZOFFSETFROM:+0200
TZOFFSETTO:+0100
TZNAME:CET
DTSTART:20241027T010000
END:STANDARD
BEGIN:DAYLIGHT
TZOFFSETFROM:+0100
TZOFFSETTO:+0200
TZNAME:CEST
DTSTART:20250330T010000
END:DAYLIGHT
BEGIN:STANDARD
TZOFFSETFROM:+0200
TZOFFSETTO:+0100
TZNAME:CET
DTSTART:20251026T010000
END:STANDARD
END:VTIMEZONE
BEGIN:VEVENT
DTSTART;TZID=Europe/Berlin:20230114T190000
DTEND;TZID=Europe/Berlin:20230114T233000
DTSTAMP:20260423T095008
CREATED:20221117T102047Z
LAST-MODIFIED:20231122T103801Z
UID:10000001-1673722800-1673739000@muenster-ost.de
SUMMARY:Helferparty Heimatverein
DESCRIPTION:
URL:https://muenster-ost.de/termine/helferparty/
LOCATION:Heimathaus\, Kirschgarten 49\, Münster\, 48157\, Deutschland
CATEGORIES:Heimatverein Handorf
ORGANIZER;CN="Heimatverein Handorf":MAILTO:info@heimatvereinhandorf.de
END:VEVENT
BEGIN:VEVENT
DTSTART;VALUE=DATE:20230924
DTEND;VALUE=DATE:20230925
DTSTAMP:20260423T095008
CREATED:20230922T092222Z
LAST-MODIFIED:20230922T092659Z
UID:10000002-1695513600-1695599999@muenster-ost.de
SUMMARY:Handorfer Herbst
DESCRIPTION:Bis zu 30 000 Besucher\, viele auch aus dem Umland\, flanieren über den traditionellen Markt entlang der Handorfer Straße\, des Petronillaplatzes und auf einem Teil der Dorbaumstraße.
URL:https://muenster-ost.de/termine/handorfer-herbst/
LOCATION:Handorfer Ortskern\, Handorfer Strasse\, 48157 Münster
ATTACH;FMTTYPE=image/jpeg:https://muenster-ost.de/wp-content/uploads/2023/07/17-05_10Handorf2_HQ__web.jpg
END:VEVENT
BEGIN:VEVENT
DTSTART;TZID=Europe/Berlin:20231206T160000
DTEND;TZID=Europe/Berlin:20231206T160000
DTSTAMP:20260423T095008
CREATED:20231122T103513Z
LAST-MODIFIED:20231122T103616Z
UID:10000013-1701878400-1701878400@muenster-ost.de
SUMMARY:Heimatverein Handorf: Der Nikolaus am Heimathaus
DESCRIPTION:
URL:https://muenster-ost.de/termine/heimatverein-handorf-der-nikolaus-am-heimathaus/
LOCATION:Heimathaus\, Kirschgarten 49\, Münster\, 48157\, Deutschland
CATEGORIES:Heimatverein Handorf
END:VEVENT
BEGIN:VEVENT
DTSTART;TZID=Europe/Berlin:20231209T160000
DTEND;TZID=Europe/Berlin:20231209T220000
DTSTAMP:20260423T095008
CREATED:20231122T103658Z
LAST-MODIFIED:20231122T103658Z
UID:10000014-1702137600-1702159200@muenster-ost.de
SUMMARY:Heimatverein Handorf: Handorfer Glühweinfest
DESCRIPTION:
URL:https://muenster-ost.de/termine/heimatverein-handorf-handorfer-gluehweinfest/
LOCATION:Heimathaus\, Kirschgarten 49\, Münster\, 48157\, Deutschland
CATEGORIES:Heimatverein Handorf
END:VEVENT
BEGIN:VEVENT
DTSTART;TZID=Europe/Berlin:20231213T190000
DTEND;TZID=Europe/Berlin:20231213T230000
DTSTAMP:20260423T095008
CREATED:20231113T112113Z
LAST-MODIFIED:20231113T144208Z
UID:10000003-1702494000-1702508400@muenster-ost.de
SUMMARY:Bürgerbad: Grünkohlessen
DESCRIPTION:
URL:https://muenster-ost.de/termine/gruenkohlessen/
LOCATION:Dat Handorfer Huus\, Immelmannstrasse 37\, Münster\, 48157\, Deutschland
CATEGORIES:Bürgerbad
ORGANIZER;CN="B%C3%BCrgerbad Handorf":MAILTO:verwaltung@buergerbad.info
END:VEVENT
BEGIN:VEVENT
DTSTART;TZID=Europe/Berlin:20231214T190000
DTEND;TZID=Europe/Berlin:20231214T190000
DTSTAMP:20260423T095008
CREATED:20231214T085857Z
LAST-MODIFIED:20231214T085857Z
UID:10000029-1702580400-1702580400@muenster-ost.de
SUMMARY:Königsball
DESCRIPTION:
URL:https://muenster-ost.de/termine/koenigsball/
LOCATION:Festplatz\, Hobbeltstraße 100\, Münster\, 48157
CATEGORIES:Bürgerschützen Handorf
ORGANIZER;CN="B%C3%BCrgersch%C3%BCtzen Handorf":MAILTO:webmaster@buergerschuetzen-handorf.de
END:VEVENT
BEGIN:VEVENT
DTSTART;TZID=Europe/Berlin:20231224T090000
DTEND;TZID=Europe/Berlin:20231224T120000
DTSTAMP:20260423T095008
CREATED:20231113T144507Z
LAST-MODIFIED:20231113T144507Z
UID:10000004-1703408400-1703419200@muenster-ost.de
SUMMARY:Bürgerbad: Aquatrak
DESCRIPTION:
URL:https://muenster-ost.de/termine/buergerbad-aquatrak/
LOCATION:Bürgerbad\, Hobbeltstraße 144\, Münster\, 48157\, Deutschland
CATEGORIES:Bürgerbad
ORGANIZER;CN="B%C3%BCrgerbad Handorf":MAILTO:verwaltung@buergerbad.info
END:VEVENT
BEGIN:VEVENT
DTSTART;TZID=Europe/Berlin:20240107T111100
DTEND;TZID=Europe/Berlin:20240107T220000
DTSTAMP:20260423T095008
CREATED:20231113T144815Z
LAST-MODIFIED:20231113T145136Z
UID:10000005-1704625860-1704664800@muenster-ost.de
SUMMARY:Carneval Club Turmuhlen: Neujahrsempfang
DESCRIPTION:
URL:https://muenster-ost.de/termine/turmuhlen-neujahrsempfang/
LOCATION:Dat Handorfer Huus\, Immelmannstrasse 37\, Münster\, 48157\, Deutschland
CATEGORIES:Carneval Club Turmuhlen
ATTACH;FMTTYPE=image/jpeg:https://muenster-ost.de/wp-content/uploads/2023/11/cropped-2020-02-15-scaled-1.jpg
ORGANIZER;CN="Carneval Club Turmuhlen":MAILTO:ly@spargelhof-spielbrink.de
END:VEVENT
BEGIN:VEVENT
DTSTART;VALUE=DATE:20240120
DTEND;VALUE=DATE:20240121
DTSTAMP:20260423T095008
CREATED:20231214T084539Z
LAST-MODIFIED:20231214T090340Z
UID:10000024-1705708800-1705795199@muenster-ost.de
SUMMARY:Schnadgang
DESCRIPTION:Teilnahme erbeten\, bitte Tagespresse beachten
URL:https://muenster-ost.de/termine/schnadgang/
CATEGORIES:Bürgerschützen Handorf
ORGANIZER;CN="B%C3%BCrgersch%C3%BCtzen Handorf":MAILTO:webmaster@buergerschuetzen-handorf.de
END:VEVENT
BEGIN:VEVENT
DTSTART;TZID=Europe/Berlin:20240201T200000
DTEND;TZID=Europe/Berlin:20240201T220000
DTSTAMP:20260423T095008
CREATED:20240124T073134Z
LAST-MODIFIED:20240130T151759Z
UID:10000068-1706817600-1706824800@muenster-ost.de
SUMMARY:BI B51 Handorf: erweiterte Vorstandssitzung
DESCRIPTION:
URL:https://muenster-ost.de/termine/bi-b51-handorf-erweiterte-vorstandssitzung/
LOCATION:Dat Handorfer Huus\, Immelmannstrasse 37\, Münster\, 48157\, Deutschland
CATEGORIES:BI B51 Handorf
ORGANIZER;CN="BI B51 Handorf":MAILTO:info@bi-b51-handorf.de
END:VEVENT
BEGIN:VEVENT
DTSTART;TZID=Europe/Berlin:20240211T111100
DTEND;TZID=Europe/Berlin:20240211T111100
DTSTAMP:20260423T095008
CREATED:20231116T112719Z
LAST-MODIFIED:20231116T112847Z
UID:10000007-1707649860-1707649860@muenster-ost.de
SUMMARY:Karneval Club Turmuhlen: Schlüsselübergabe
DESCRIPTION:
URL:https://muenster-ost.de/termine/karneval-club-turmuhlen-schluesseluebergabe/
LOCATION:Prinzipalmarkt Münster\, Prinzipalmarkt\, Münster
CATEGORIES:Carneval Club Turmuhlen
ORGANIZER;CN="Carneval Club Turmuhlen":MAILTO:ly@spargelhof-spielbrink.de
END:VEVENT
BEGIN:VEVENT
DTSTART;TZID=Europe/Berlin:20240212T111100
DTEND;TZID=Europe/Berlin:20240212T170000
DTSTAMP:20260423T095008
CREATED:20231116T112940Z
LAST-MODIFIED:20231116T112940Z
UID:10000008-1707736260-1707757200@muenster-ost.de
SUMMARY:Carneval Club Turmuhlen: Rosenmontagsumzug
DESCRIPTION:
URL:https://muenster-ost.de/termine/carneval-club-turmuhlen-rosenmontagsumzug/
LOCATION:Prinzipalmarkt Münster\, Prinzipalmarkt\, Münster
CATEGORIES:Carneval Club Turmuhlen
ORGANIZER;CN="Carneval Club Turmuhlen":MAILTO:ly@spargelhof-spielbrink.de
END:VEVENT
BEGIN:VEVENT
DTSTART;TZID=Europe/Berlin:20240214T190000
DTEND;TZID=Europe/Berlin:20240214T190000
DTSTAMP:20260423T095008
CREATED:20231116T113021Z
LAST-MODIFIED:20231116T113021Z
UID:10000009-1707937200-1707937200@muenster-ost.de
SUMMARY:Carneval Club Turmuhlen: Fischessen
DESCRIPTION:
URL:https://muenster-ost.de/termine/carneval-club-turmuhlen-fischessen/
LOCATION:Dat Handorfer Huus\, Immelmannstrasse 37\, Münster\, 48157\, Deutschland
CATEGORIES:Carneval Club Turmuhlen
ORGANIZER;CN="Carneval Club Turmuhlen":MAILTO:ly@spargelhof-spielbrink.de
END:VEVENT
BEGIN:VEVENT
DTSTART;TZID=Europe/Berlin:20240216T170000
DTEND;TZID=Europe/Berlin:20240216T170000
DTSTAMP:20260423T095008
CREATED:20231214T084913Z
LAST-MODIFIED:20231214T084913Z
UID:10000025-1708102800-1708102800@muenster-ost.de
SUMMARY:Winterwanderung
DESCRIPTION:mit anschließendem Turnier ( Doppelkopf\, „Lasern“\, Knobeln)\nOrt wird bekannt gegeben!
URL:https://muenster-ost.de/termine/winterwanderung/
CATEGORIES:Bürgerschützen Handorf
ORGANIZER;CN="B%C3%BCrgersch%C3%BCtzen Handorf":MAILTO:webmaster@buergerschuetzen-handorf.de
END:VEVENT
BEGIN:VEVENT
DTSTART;TZID=Europe/Berlin:20240222T190000
DTEND;TZID=Europe/Berlin:20240222T190000
DTSTAMP:20260423T095008
CREATED:20240124T070032Z
LAST-MODIFIED:20240124T070032Z
UID:10000035-1708628400-1708628400@muenster-ost.de
SUMMARY:Heimatverein: Mitgliederversammlung 2024
DESCRIPTION:
URL:https://muenster-ost.de/termine/heimatverein-mitgliederversammlung-2024/
LOCATION:Dat Handorfer Huus\, Immelmannstrasse 37\, Münster\, 48157\, Deutschland
CATEGORIES:Heimatverein Handorf
ORGANIZER;CN="Heimatverein Handorf":MAILTO:info@heimatvereinhandorf.de
END:VEVENT
BEGIN:VEVENT
DTSTART;TZID=Europe/Berlin:20240301T150000
DTEND;TZID=Europe/Berlin:20240301T170000
DTSTAMP:20260423T095008
CREATED:20231128T084639Z
LAST-MODIFIED:20240124T072256Z
UID:10000015-1709305200-1709312400@muenster-ost.de
SUMMARY:Theatergruppe der KFD: Aufführung
DESCRIPTION:
URL:https://muenster-ost.de/termine/theatergruppe-der-kfd-auffuehrung/2024-03-01/1/
LOCATION:Dat Handorfer Huus\, Immelmannstrasse 37\, Münster\, 48157\, Deutschland
CATEGORIES:Theatergruppe der KFD
END:VEVENT
BEGIN:VEVENT
DTSTART;TZID=Europe/Berlin:20240301T200000
DTEND;TZID=Europe/Berlin:20240301T220000
DTSTAMP:20260423T095008
CREATED:20231128T084639Z
LAST-MODIFIED:20240124T072256Z
UID:10000016-1709323200-1709330400@muenster-ost.de
SUMMARY:Theatergruppe der KFD: Aufführung
DESCRIPTION:
URL:https://muenster-ost.de/termine/theatergruppe-der-kfd-auffuehrung/2024-03-01/2/
LOCATION:Dat Handorfer Huus\, Immelmannstrasse 37\, Münster\, 48157\, Deutschland
CATEGORIES:Theatergruppe der KFD
END:VEVENT
BEGIN:VEVENT
DTSTART;TZID=Europe/Berlin:20240302T150000
DTEND;TZID=Europe/Berlin:20240302T170000
DTSTAMP:20260423T095008
CREATED:20231128T084639Z
LAST-MODIFIED:20240124T072256Z
UID:10000017-1709391600-1709398800@muenster-ost.de
SUMMARY:Theatergruppe der KFD: Aufführung
DESCRIPTION:
URL:https://muenster-ost.de/termine/theatergruppe-der-kfd-auffuehrung/2024-03-02/1/
LOCATION:Dat Handorfer Huus\, Immelmannstrasse 37\, Münster\, 48157\, Deutschland
CATEGORIES:Theatergruppe der KFD
END:VEVENT
BEGIN:VEVENT
DTSTART;TZID=Europe/Berlin:20240302T200000
DTEND;TZID=Europe/Berlin:20240302T220000
DTSTAMP:20260423T095008
CREATED:20231128T084639Z
LAST-MODIFIED:20240124T072256Z
UID:10000018-1709409600-1709416800@muenster-ost.de
SUMMARY:Theatergruppe der KFD: Aufführung
DESCRIPTION:
URL:https://muenster-ost.de/termine/theatergruppe-der-kfd-auffuehrung/2024-03-02/2/
LOCATION:Dat Handorfer Huus\, Immelmannstrasse 37\, Münster\, 48157\, Deutschland
CATEGORIES:Theatergruppe der KFD
END:VEVENT
BEGIN:VEVENT
DTSTART;TZID=Europe/Berlin:20240303T150000
DTEND;TZID=Europe/Berlin:20240303T170000
DTSTAMP:20260423T095008
CREATED:20231128T084639Z
LAST-MODIFIED:20240124T072256Z
UID:10000019-1709478000-1709485200@muenster-ost.de
SUMMARY:Theatergruppe der KFD: Aufführung
DESCRIPTION:
URL:https://muenster-ost.de/termine/theatergruppe-der-kfd-auffuehrung/2024-03-03/1/
LOCATION:Dat Handorfer Huus\, Immelmannstrasse 37\, Münster\, 48157\, Deutschland
CATEGORIES:Theatergruppe der KFD
END:VEVENT
BEGIN:VEVENT
DTSTART;TZID=Europe/Berlin:20240303T200000
DTEND;TZID=Europe/Berlin:20240303T220000
DTSTAMP:20260423T095008
CREATED:20231128T084639Z
LAST-MODIFIED:20240124T072256Z
UID:10000020-1709496000-1709503200@muenster-ost.de
SUMMARY:Theatergruppe der KFD: Aufführung
DESCRIPTION:
URL:https://muenster-ost.de/termine/theatergruppe-der-kfd-auffuehrung/2024-03-03/2/
LOCATION:Dat Handorfer Huus\, Immelmannstrasse 37\, Münster\, 48157\, Deutschland
CATEGORIES:Theatergruppe der KFD
END:VEVENT
BEGIN:VEVENT
DTSTART;TZID=Europe/Berlin:20240307T190000
DTEND;TZID=Europe/Berlin:20240307T190000
DTSTAMP:20260423T095008
CREATED:20240124T070129Z
LAST-MODIFIED:20240124T070129Z
UID:10000036-1709838000-1709838000@muenster-ost.de
SUMMARY:Heimatverein: Autorenlesung
DESCRIPTION:Reservierung erforderlich
URL:https://muenster-ost.de/termine/heimatverein-autorenlesung/
LOCATION:Heimathaus\, Kirschgarten 49\, Münster\, 48157\, Deutschland
CATEGORIES:Heimatverein Handorf
ORGANIZER;CN="Heimatverein Handorf":MAILTO:info@heimatvereinhandorf.de
END:VEVENT
BEGIN:VEVENT
DTSTART;TZID=Europe/Berlin:20240308T190000
DTEND;TZID=Europe/Berlin:20240308T220000
DTSTAMP:20260423T095008
CREATED:20240124T070310Z
LAST-MODIFIED:20240130T151137Z
UID:10000038-1709924400-1709935200@muenster-ost.de
SUMMARY:Heimatverein. Plattdeutscher Abend
DESCRIPTION:Reservierung erforderlich
URL:https://muenster-ost.de/termine/heimatverein-plattdeutscher-abend/
LOCATION:Heimathaus\, Kirschgarten 49\, Münster\, 48157\, Deutschland
CATEGORIES:Heimatverein Handorf
ORGANIZER;CN="Heimatverein Handorf":MAILTO:info@heimatvereinhandorf.de
END:VEVENT
BEGIN:VEVENT
DTSTART;TZID=Europe/Berlin:20240308T190000
DTEND;TZID=Europe/Berlin:20240308T223000
DTSTAMP:20260423T095008
CREATED:20240124T070226Z
LAST-MODIFIED:20240208T141602Z
UID:10000037-1709924400-1709937000@muenster-ost.de
SUMMARY:Heimatverein: Wurste- & Leberbrotessen
DESCRIPTION:Reservierung erforderlich
URL:https://muenster-ost.de/termine/heimatverein-wurste-leberbrotessen/
LOCATION:Heimathaus\, Kirschgarten 49\, Münster\, 48157\, Deutschland
CATEGORIES:Heimatverein Handorf
ORGANIZER;CN="Heimatverein Handorf":MAILTO:info@heimatvereinhandorf.de
END:VEVENT
BEGIN:VEVENT
DTSTART;TZID=Europe/Berlin:20240316T140000
DTEND;TZID=Europe/Berlin:20240316T180000
DTSTAMP:20260423T095008
CREATED:20240311T071219Z
LAST-MODIFIED:20240311T071219Z
UID:10000072-1710597600-1710612000@muenster-ost.de
SUMMARY:"Sauberes Münster" Aktion der BI B51 Handorf
DESCRIPTION:Und natürlich würden wir uns freuen\, wenn noch einige Mitglieder Zeit und Lust hätten\, uns bei der Müllsammelaktion\nam Samstag\, den 16. 3. ab 14 Uhr zu unterstützen. Dann bitte eine kurze Nachricht an ms.vandornick.2@gmail.com
URL:https://muenster-ost.de/termine/sauberes-muenster-aktion-der-bi-b51-handorf/
LOCATION:Warendorfer Straße\, Münster\, 48157
CATEGORIES:BI B51 Handorf
ORGANIZER;CN="BI B51 Handorf":MAILTO:info@bi-b51-handorf.de
END:VEVENT
BEGIN:VEVENT
DTSTART;TZID=Europe/Berlin:20240317T192600
DTEND;TZID=Europe/Berlin:20240317T235900
DTSTAMP:20260423T095008
CREATED:20231122T102825Z
LAST-MODIFIED:20231122T145638Z
UID:10000012-1710703560-1710719940@muenster-ost.de
SUMMARY:TSV Handorf: Mitgliederversammlung
DESCRIPTION:
URL:https://muenster-ost.de/termine/tsv-handorf-mitgliederversammlung/
LOCATION:TSV Handorf\, Hobbeltstraße 132\, Münster\, 48157\, Deutschland
CATEGORIES:TSV Handorf
ORGANIZER;CN="TSV Handorf":MAILTO:info@tsv-handorf.de
END:VEVENT
BEGIN:VEVENT
DTSTART;TZID=Europe/Berlin:20240322T150000
DTEND;TZID=Europe/Berlin:20240322T170000
DTSTAMP:20260423T095008
CREATED:20240124T070347Z
LAST-MODIFIED:20240124T070347Z
UID:10000039-1711119600-1711126800@muenster-ost.de
SUMMARY:Heimatverein: Draußen nur Kännchen
DESCRIPTION:
URL:https://muenster-ost.de/termine/heimatverein-draussen-nur-kaennchen/
LOCATION:Heimathaus\, Kirschgarten 49\, Münster\, 48157\, Deutschland
CATEGORIES:Heimatverein Handorf
ORGANIZER;CN="Heimatverein Handorf":MAILTO:info@heimatvereinhandorf.de
END:VEVENT
BEGIN:VEVENT
DTSTART;TZID=Europe/Berlin:20240323T150000
DTEND;TZID=Europe/Berlin:20240323T170000
DTSTAMP:20260423T095008
CREATED:20240124T072402Z
LAST-MODIFIED:20240124T072402Z
UID:10000065-1711206000-1711213200@muenster-ost.de
SUMMARY:St. Vinzenz Dorbaum: Wintertreffen mit Pokal- und Plakettenschießen
DESCRIPTION:
URL:https://muenster-ost.de/termine/st-vinzenz-dorbaum-wintertreffen-mit-pokal-und-plakettenschiessen/
LOCATION:Dat Handorfer Huus\, Immelmannstrasse 37\, Münster\, 48157\, Deutschland
CATEGORIES:Schützenbruderschaft Vinzenz Dorbaum
END:VEVENT
BEGIN:VEVENT
DTSTART;TZID=Europe/Berlin:20240329T110000
DTEND;TZID=Europe/Berlin:20240329T110000
DTSTAMP:20260423T095008
CREATED:20240124T070440Z
LAST-MODIFIED:20240124T070440Z
UID:10000040-1711710000-1711710000@muenster-ost.de
SUMMARY:Heimatverein: Struwen am Heimathaus\, Karfreitag
DESCRIPTION:
URL:https://muenster-ost.de/termine/heimatverein-struwen-am-heimathaus-karfreitag/
LOCATION:Heimathaus\, Kirschgarten 49\, Münster\, 48157\, Deutschland
CATEGORIES:Heimatverein Handorf
ORGANIZER;CN="Heimatverein Handorf":MAILTO:info@heimatvereinhandorf.de
END:VEVENT
BEGIN:VEVENT
DTSTART;TZID=Europe/Berlin:20240403T190000
DTEND;TZID=Europe/Berlin:20240403T190000
DTSTAMP:20260423T095008
CREATED:20240124T070739Z
LAST-MODIFIED:20240124T070739Z
UID:10000042-1712170800-1712170800@muenster-ost.de
SUMMARY:Heimatverein. Das erste Bergfest 2024
DESCRIPTION:
URL:https://muenster-ost.de/termine/heimatverein-das-erste-bergfest-2024/
LOCATION:Heimathaus\, Kirschgarten 49\, Münster\, 48157\, Deutschland
CATEGORIES:Heimatverein Handorf
ORGANIZER;CN="Heimatverein Handorf":MAILTO:info@heimatvereinhandorf.de
END:VEVENT
END:VCALENDAR